BEGIN:VCALENDAR
CALSCALE:GREGORIAN
VERSION:2.0
METHOD:PUBLISH
PRODID:www.sachsenlandhalle-glauchau.de
BEGIN:VEVENT
TZID:Europe/Berlin
UID:1494-1-1@www.sachsenlandhalle-glauchau.de
SUMMARY:Portugal - Auf den Wegen des Südens
DESCRIPTION:Ralf Schwan Live\nTickets in der Sachsenlandhalle erhältlich\nOb spirituelle Pilgertour oder naturnahe Trekkingtour – Ralf Schwan berichtet direkt von den Wegen\, durch kleine Dörfer\, historische Städte und atemberaubende Landschaften. Erleben Sie Portugal hautnah – Schritt für Schritt. Jetzt live dabei sein – unterwegs zwischen Geschichte\, Natur und Begegnung.
LOCATION:Kleiner Saal
DTSTART:20270305T193000
DTEND:20270305T193000
DTSTAMP:20260421T111155Z
END:VEVENT
END:VCALENDAR